BEGIN:VCALENDAR
VERSION:2.0
PRODID:-//wp-events-plugin.com//5.99912//EN
TZID:Europe/Berlin
X-WR-TIMEZONE:Europe/Berlin
BEGIN:VEVENT
UID:0-415@fornsbach.albverein.eu
DTSTART;TZID=Europe/Berlin:20260712T120000
DTEND;TZID=Europe/Berlin:20260712T120000
DTSTAMP:20260211T115858Z
URL:https://fornsbach.albverein.eu/events/150-jahre-musikverein-stadtkapel
 le-murrhardt/
SUMMARY:150 Jahre Musikverein Stadtkapelle Murrhardt
DESCRIPTION:Der SAV Fornsbach beteiligt sich an dem Umzug des Murrhardter M
 usikvereins
END:VEVENT
BEGIN:VTIMEZONE
TZID:Europe/Berlin
X-LIC-LOCATION:Europe/Berlin
BEGIN:DAYLIGHT
DTSTART:20260329T030000
TZOFFSETFROM:+0100
TZOFFSETTO:+0200
TZNAME:CEST
END:DAYLIGHT
END:VTIMEZONE
END:VCALENDAR