BEGIN:VCALENDAR
VERSION:2.0
PRODID:-//wp-events-plugin.com//5.99912//EN
TZID:Europe/Berlin
X-WR-TIMEZONE:Europe/Berlin
BEGIN:VEVENT
UID:0-414@fornsbach.albverein.eu
DTSTART;TZID=Europe/Berlin;VALUE=DATE:20260613
DTEND;TZID=Europe/Berlin;VALUE=DATE:20260615
DTSTAMP:20260211T115533Z
URL:https://fornsbach.albverein.eu/events/hauptversammlung-des-schwaebisch
 en-albvereins/
SUMMARY:Hauptversammlung des Schwäbischen Albvereins
DESCRIPTION:Die Hauptversammlung des Hauptvereins des Schwäbischen Albvere
 ins findet in diesem Jahr in Sigmaringendorf statt.\nParallel zur Hauptver
 sammlung werden mehrere attaktive Wanderungen angeboten.\n\nNäheres wird 
 noch rechtzeitig bekanntgegeben
END:VEVENT
BEGIN:VTIMEZONE
TZID:Europe/Berlin
X-LIC-LOCATION:Europe/Berlin
BEGIN:DAYLIGHT
DTSTART:20260329T030000
TZOFFSETFROM:+0100
TZOFFSETTO:+0200
TZNAME:CEST
END:DAYLIGHT
END:VTIMEZONE
END:VCALENDAR