BEGIN:VCALENDAR
VERSION:2.0
PRODID:-//wp-events-plugin.com//5.99912//EN
TZID:Europe/Berlin
X-WR-TIMEZONE:Europe/Berlin
BEGIN:VEVENT
UID:0-412@fornsbach.albverein.eu
DTSTART;TZID=Europe/Berlin:20260419T100000
DTEND;TZID=Europe/Berlin:20260419T150000
DTSTAMP:20260412T145433Z
URL:https://fornsbach.albverein.eu/events/tageswanderung-weg-der-lieder/
SUMMARY:Tageswanderung: Auf dem "Weg der Lieder"
DESCRIPTION:Liebe Albvereinler und Wanderer\,\ndie Ortsgruppen Fornsbach un
 d Gschwend des Schwäbischen Albvereins führen am Sonntag\, den 19. April
  2026 gemeinsam eine Tageswanderung durch.  \n\nTreffpunkt: Für die OG F
 ornsbach um 10:00 Uhr an der Gemeindehalle.\n.              
       Für die OG Gschwend um 09.50 Uhr am Marktplatz\,\n.     
                dort werden Fahrgemeinschaften gebildet.\n. 
                    Anschließend Weiterfahrt nach\n.  
                   71577 Grab\, Parkplatz beim Friedhof\, 
 Morbacher Straße.\n\nWanderstrecke: Der Themenweg verbindet Landschaft un
 d Wandern mit Kunst und Kultur entlang durch breite Flächen\, tiefe Schlu
 chten\, langer Bäche durch Wald und Obstwiesen.\n\nGutes Schuhwerk und m
 öglicherweise Stöcke werden empfohlen.\n\nStreckenlänge: ca. 13 km\, Ge
 samtsteigung: ca. 150 Hm.\n\nDauer: 4 Stunden.\n\nAbschlusseinkehr: Ist ni
 cht vorgesehen. Vesper und Getränke sind nach Bedarf mitzunehmen. Wir fre
 uen uns auf viele fröhliche Wanderbegeisterte.\nGäste sind herzlich will
 kommen.\n\nWanderführer: Manfred Wurst
END:VEVENT
BEGIN:VTIMEZONE
TZID:Europe/Berlin
X-LIC-LOCATION:Europe/Berlin
BEGIN:DAYLIGHT
DTSTART:20260329T030000
TZOFFSETFROM:+0100
TZOFFSETTO:+0200
TZNAME:CEST
END:DAYLIGHT
END:VTIMEZONE
END:VCALENDAR